Package: chromPlot Version: 1.30.0 Command: /home/biocbuild/R/R-4.3.1/bin/R CMD build --keep-empty-dirs --no-resave-data chromPlot StartedAt: 2023-11-01 23:26:14 -0000 (Wed, 01 Nov 2023) EndedAt: 2023-11-01 23:27:08 -0000 (Wed, 01 Nov 2023) EllapsedTime: 53.1 seconds RetCode: 0 Status: OK PackageFile: chromPlot_1.30.0.tar.gz PackageFileSize: 1.506 MiB