Package: chromDraw Version: 2.32.0 Command: F:\biocbuild\bbs-3.18-bioc\R\bin\R.exe CMD check --no-multiarch --install=check:chromDraw.install-out.txt --library=F:\biocbuild\bbs-3.18-bioc\R\library --no-vignettes --timings chromDraw_2.32.0.tar.gz StartedAt: 2024-04-15 23:16:10 -0400 (Mon, 15 Apr 2024) EndedAt: 2024-04-15 23:17:51 -0400 (Mon, 15 Apr 2024) EllapsedTime: 101.0 seconds RetCode: 0 Status: WARNINGS CheckDir: chromDraw.Rcheck Warnings: 3