Package: chromDraw Version: 2.32.0 Command: /home/biocbuild/R/R-4.3.1/bin/R CMD check --install=check:chromDraw.install-out.txt --library=/home/biocbuild/R/R-4.3.1/site-library --no-vignettes --timings chromDraw_2.32.0.tar.gz StartedAt: 2023-11-02 09:14:31 -0000 (Thu, 02 Nov 2023) EndedAt: 2023-11-02 09:15:57 -0000 (Thu, 02 Nov 2023) EllapsedTime: 86.2 seconds RetCode: 0 Status: WARNINGS CheckDir: chromDraw.Rcheck Warnings: 3