Package: chromDraw Version: 2.32.0 Command: /home/biocbuild/R/R-4.3.1/bin/R CMD build --keep-empty-dirs --no-resave-data chromDraw StartedAt: 2023-11-01 23:25:08 -0000 (Wed, 01 Nov 2023) EndedAt: 2023-11-01 23:26:45 -0000 (Wed, 01 Nov 2023) EllapsedTime: 96.1 seconds RetCode: 0 Status: OK PackageFile: chromDraw_2.32.0.tar.gz PackageFileSize: 2.22 MiB