Package: chopsticks Version: 1.68.0 Command: /Library/Frameworks/R.framework/Resources/bin/R CMD check --install=check:chopsticks.install-out.txt --library=/Library/Frameworks/R.framework/Resources/library --no-vignettes --timings chopsticks_1.68.0.tar.gz StartedAt: 2024-04-16 00:39:50 -0400 (Tue, 16 Apr 2024) EndedAt: 2024-04-16 00:41:48 -0400 (Tue, 16 Apr 2024) EllapsedTime: 117.2 seconds RetCode: 0 Status: WARNINGS CheckDir: chopsticks.Rcheck Warnings: 3