Package: chopsticks Version: 1.68.0 Command: /Library/Frameworks/R.framework/Resources/bin/R CMD build --keep-empty-dirs --no-resave-data chopsticks StartedAt: 2024-03-03 16:13:48 -0500 (Sun, 03 Mar 2024) EndedAt: 2024-03-03 16:14:22 -0500 (Sun, 03 Mar 2024) EllapsedTime: 33.8 seconds RetCode: 0 Status: OK PackageFile: chopsticks_1.68.0.tar.gz PackageFileSize: 6.642 MiB