Package: chipseq Version: 1.52.0 Command: /Library/Frameworks/R.framework/Resources/bin/R CMD check --install=check:chipseq.install-out.txt --library=/Library/Frameworks/R.framework/Resources/library --no-vignettes --timings chipseq_1.52.0.tar.gz StartedAt: 2024-03-03 19:36:12 -0500 (Sun, 03 Mar 2024) EndedAt: 2024-03-03 19:40:28 -0500 (Sun, 03 Mar 2024) EllapsedTime: 256.1 seconds RetCode: 0 Status: WARNINGS CheckDir: chipseq.Rcheck Warnings: 2