Package: chipseq Version: 1.52.0 Command: rm -rf chipseq.buildbin-libdir && mkdir chipseq.buildbin-libdir && /Users/biocbuild/BBS/utils/build-universal.sh chipseq_1.52.0.tar.gz /Library/Frameworks/R.framework/Resources/bin/R chipseq.buildbin-libdir StartedAt: 2024-03-04 00:33:43 -0500 (Mon, 04 Mar 2024) EndedAt: 2024-03-04 00:34:30 -0500 (Mon, 04 Mar 2024) EllapsedTime: 46.7 seconds RetCode: 0 Status: OK PackageFile: chipseq_1.52.0.tgz PackageFileSize: 2.421 MiB