Package: chipenrich Version: 2.26.0 Command: /Library/Frameworks/R.framework/Resources/bin/R CMD INSTALL chipenrich StartedAt: 2024-03-03 15:35:28 -0500 (Sun, 03 Mar 2024) EndedAt: 2024-03-03 15:36:28 -0500 (Sun, 03 Mar 2024) EllapsedTime: 60.4 seconds RetCode: 0 Status: OK