Package: chipenrich Version: 2.26.0 Command: /Library/Frameworks/R.framework/Resources/bin/R CMD build --keep-empty-dirs --no-resave-data chipenrich StartedAt: 2024-03-03 16:12:57 -0500 (Sun, 03 Mar 2024) EndedAt: 2024-03-03 16:14:45 -0500 (Sun, 03 Mar 2024) EllapsedTime: 107.7 seconds RetCode: 0 Status: OK PackageFile: chipenrich_2.26.0.tar.gz PackageFileSize: 629.8 KiB