Package: chipenrich Version: 2.26.0 Command: /home/biocbuild/R/R-4.3.1/bin/R CMD build --keep-empty-dirs --no-resave-data chipenrich StartedAt: 2023-11-01 23:19:03 -0000 (Wed, 01 Nov 2023) EndedAt: 2023-11-01 23:21:11 -0000 (Wed, 01 Nov 2023) EllapsedTime: 128.2 seconds RetCode: 0 Status: OK PackageFile: chipenrich_2.26.0.tar.gz PackageFileSize: 648.7 KiB