Package: chihaya Version: 1.2.0 Command: chmod a+r chihaya -R && F:\biocbuild\bbs-3.18-bioc\R\bin\R.exe CMD build --keep-empty-dirs --no-resave-data chihaya StartedAt: 2024-04-15 17:32:55 -0400 (Mon, 15 Apr 2024) EndedAt: 2024-04-15 17:34:04 -0400 (Mon, 15 Apr 2024) EllapsedTime: 68.8 seconds RetCode: 0 Status: OK PackageFile: chihaya_1.2.0.tar.gz PackageFileSize: 258.2 KiB