Package: chihaya Version: 1.2.0 Command: /home/biocbuild/bbs-3.18-bioc/R/bin/R CMD check --install=check:chihaya.install-out.txt --library=/home/biocbuild/bbs-3.18-bioc/R/site-library --timings chihaya_1.2.0.tar.gz StartedAt: 2024-04-15 21:08:16 -0400 (Mon, 15 Apr 2024) EndedAt: 2024-04-15 21:10:44 -0400 (Mon, 15 Apr 2024) EllapsedTime: 147.3 seconds RetCode: 0 Status: WARNINGS CheckDir: chihaya.Rcheck Warnings: 1