Package: chihaya Version: 1.2.0 Command: /Library/Frameworks/R.framework/Resources/bin/R CMD INSTALL chihaya StartedAt: 2024-03-03 15:13:27 -0500 (Sun, 03 Mar 2024) EndedAt: 2024-03-03 15:14:17 -0500 (Sun, 03 Mar 2024) EllapsedTime: 50.4 seconds RetCode: 0 Status: OK