Package: chihaya Version: 1.2.0 Command: /Library/Frameworks/R.framework/Resources/bin/R CMD build --keep-empty-dirs --no-resave-data chihaya StartedAt: 2024-03-03 16:12:41 -0500 (Sun, 03 Mar 2024) EndedAt: 2024-03-03 16:13:33 -0500 (Sun, 03 Mar 2024) EllapsedTime: 51.3 seconds RetCode: 0 Status: OK PackageFile: chihaya_1.2.0.tar.gz PackageFileSize: 258.1 KiB