Package: cghMCR Version: 1.60.0 Command: /home/biocbuild/bbs-3.18-bioc/R/bin/R CMD build --keep-empty-dirs --no-resave-data cghMCR StartedAt: 2024-04-15 16:25:04 -0400 (Mon, 15 Apr 2024) EndedAt: 2024-04-15 16:26:10 -0400 (Mon, 15 Apr 2024) EllapsedTime: 66.4 seconds RetCode: 0 Status: OK PackageFile: cghMCR_1.60.0.tar.gz PackageFileSize: 36.01 MiB