Package: cfdnakit Version: 1.0.1 Command: /Library/Frameworks/R.framework/Resources/bin/R CMD check --install=check:cfdnakit.install-out.txt --library=/Library/Frameworks/R.framework/Resources/library --no-vignettes --timings cfdnakit_1.0.1.tar.gz StartedAt: 2024-04-16 00:32:36 -0400 (Tue, 16 Apr 2024) EndedAt: 2024-04-16 00:39:26 -0400 (Tue, 16 Apr 2024) EllapsedTime: 410.3 seconds RetCode: 0 Status: OK CheckDir: cfdnakit.Rcheck Warnings: 0