Package: cfdnakit Version: 1.0.0 Command: /Library/Frameworks/R.framework/Resources/bin/R CMD check --install=check:cfdnakit.install-out.txt --library=/Library/Frameworks/R.framework/Resources/library --no-vignettes --timings cfdnakit_1.0.0.tar.gz StartedAt: 2024-03-03 19:32:48 -0500 (Sun, 03 Mar 2024) EndedAt: 2024-03-03 19:36:40 -0500 (Sun, 03 Mar 2024) EllapsedTime: 231.8 seconds RetCode: 0 Status: OK CheckDir: cfdnakit.Rcheck Warnings: 0