Package: cfdnakit Version: 1.0.0 Command: /Library/Frameworks/R.framework/Resources/bin/R CMD build --keep-empty-dirs --no-resave-data cfdnakit StartedAt: 2024-03-03 16:11:42 -0500 (Sun, 03 Mar 2024) EndedAt: 2024-03-03 16:12:33 -0500 (Sun, 03 Mar 2024) EllapsedTime: 51.8 seconds RetCode: 0 Status: OK PackageFile: cfdnakit_1.0.0.tar.gz PackageFileSize: 2.968 MiB