Package: cfTools Version: 1.2.0 Command: /Library/Frameworks/R.framework/Resources/bin/R CMD build --keep-empty-dirs --no-resave-data cfTools StartedAt: 2024-03-03 16:11:52 -0500 (Sun, 03 Mar 2024) EndedAt: 2024-03-03 16:13:43 -0500 (Sun, 03 Mar 2024) EllapsedTime: 111.0 seconds RetCode: 0 Status: OK PackageFile: cfTools_1.2.0.tar.gz PackageFileSize: 1.266 MiB