Package: censcyt Version: 1.10.0 Command: /home/biocbuild/bbs-3.18-bioc/R/bin/R CMD build --keep-empty-dirs --no-resave-data censcyt StartedAt: 2024-04-15 16:23:44 -0400 (Mon, 15 Apr 2024) EndedAt: 2024-04-15 16:25:03 -0400 (Mon, 15 Apr 2024) EllapsedTime: 79.1 seconds RetCode: 0 Status: OK PackageFile: censcyt_1.10.0.tar.gz PackageFileSize: 468.1 KiB