Package: censcyt Version: 1.10.0 Command: /Library/Frameworks/R.framework/Resources/bin/R CMD check --install=check:censcyt.install-out.txt --library=/Library/Frameworks/R.framework/Resources/library --no-vignettes --timings censcyt_1.10.0.tar.gz StartedAt: 2024-04-16 00:30:28 -0400 (Tue, 16 Apr 2024) EndedAt: 2024-04-16 00:39:50 -0400 (Tue, 16 Apr 2024) EllapsedTime: 562.8 seconds RetCode: 0 Status: OK CheckDir: censcyt.Rcheck Warnings: 0