Package: cellxgenedp Version: 1.6.2 Command: /home/biocbuild/bbs-3.18-bioc/R/bin/R CMD build --keep-empty-dirs --no-resave-data cellxgenedp StartedAt: 2024-04-15 16:23:08 -0400 (Mon, 15 Apr 2024) EndedAt: 2024-04-15 16:25:38 -0400 (Mon, 15 Apr 2024) EllapsedTime: 149.9 seconds RetCode: 0 Status: OK PackageFile: cellxgenedp_1.6.2.tar.gz PackageFileSize: 245 KiB