Package: cellxgenedp Version: 1.6.2 Command: /Library/Frameworks/R.framework/Resources/bin/R CMD build --keep-empty-dirs --no-resave-data cellxgenedp StartedAt: 2024-04-15 17:33:01 -0400 (Mon, 15 Apr 2024) EndedAt: 2024-04-15 17:34:54 -0400 (Mon, 15 Apr 2024) EllapsedTime: 113.1 seconds RetCode: 0 Status: OK PackageFile: cellxgenedp_1.6.2.tar.gz PackageFileSize: 244.8 KiB