Package: cellscape Version: 1.26.0 Command: /home/biocbuild/bbs-3.18-bioc/R/bin/R CMD build --keep-empty-dirs --no-resave-data cellscape StartedAt: 2024-04-15 16:22:47 -0400 (Mon, 15 Apr 2024) EndedAt: 2024-04-15 16:22:55 -0400 (Mon, 15 Apr 2024) EllapsedTime: 8.0 seconds RetCode: 0 Status: OK PackageFile: cellscape_1.26.0.tar.gz PackageFileSize: 897.2 KiB