Package: cellmigRation Version: 1.10.0 Command: rm -rf cellmigRation.buildbin-libdir && mkdir cellmigRation.buildbin-libdir && F:\biocbuild\bbs-3.18-bioc\R\bin\R.exe CMD INSTALL --build --library=cellmigRation.buildbin-libdir cellmigRation_1.10.0.tar.gz StartedAt: 2024-04-16 06:46:38 -0400 (Tue, 16 Apr 2024) EndedAt: 2024-04-16 06:47:09 -0400 (Tue, 16 Apr 2024) EllapsedTime: 30.7 seconds RetCode: 0 Status: OK PackageFile: cellmigRation_1.10.0.zip PackageFileSize: 1.529 MiB