Package: cellity Version: 1.30.0 Command: chmod a+r cellity -R && F:\biocbuild\bbs-3.18-bioc\R\bin\R.exe CMD build --keep-empty-dirs --no-resave-data cellity StartedAt: 2024-04-15 17:29:33 -0400 (Mon, 15 Apr 2024) EndedAt: 2024-04-15 17:31:09 -0400 (Mon, 15 Apr 2024) EllapsedTime: 95.3 seconds RetCode: 0 Status: OK PackageFile: cellity_1.30.0.tar.gz PackageFileSize: 1.071 MiB