Package: cellity Version: 1.30.0 Command: rm -rf cellity.buildbin-libdir && mkdir cellity.buildbin-libdir && F:\biocbuild\bbs-3.18-bioc\R\bin\R.exe CMD INSTALL --build --library=cellity.buildbin-libdir cellity_1.30.0.tar.gz StartedAt: 2024-04-16 06:46:35 -0400 (Tue, 16 Apr 2024) EndedAt: 2024-04-16 06:46:59 -0400 (Tue, 16 Apr 2024) EllapsedTime: 24.6 seconds RetCode: 0 Status: OK PackageFile: cellity_1.30.0.zip PackageFileSize: 1.274 MiB