Package: cellity Version: 1.30.0 Command: /home/biocbuild/bbs-3.18-bioc/R/bin/R CMD check --install=check:cellity.install-out.txt --library=/home/biocbuild/bbs-3.18-bioc/R/site-library --timings cellity_1.30.0.tar.gz StartedAt: 2024-04-15 21:00:14 -0400 (Mon, 15 Apr 2024) EndedAt: 2024-04-15 21:04:12 -0400 (Mon, 15 Apr 2024) EllapsedTime: 238.8 seconds RetCode: 0 Status: OK CheckDir: cellity.Rcheck Warnings: 0