Package: cellity Version: 1.30.0 Command: /Library/Frameworks/R.framework/Resources/bin/R CMD INSTALL cellity StartedAt: 2024-03-03 15:17:28 -0500 (Sun, 03 Mar 2024) EndedAt: 2024-03-03 15:17:54 -0500 (Sun, 03 Mar 2024) EllapsedTime: 25.7 seconds RetCode: 0 Status: OK