Package: cellity Version: 1.30.0 Command: /Library/Frameworks/R.framework/Resources/bin/R CMD check --install=check:cellity.install-out.txt --library=/Library/Frameworks/R.framework/Resources/library --no-vignettes --timings cellity_1.30.0.tar.gz StartedAt: 2024-03-03 19:29:55 -0500 (Sun, 03 Mar 2024) EndedAt: 2024-03-03 19:32:57 -0500 (Sun, 03 Mar 2024) EllapsedTime: 182.0 seconds RetCode: 0 Status: OK CheckDir: cellity.Rcheck Warnings: 0