Package: cellity Version: 1.30.0 Command: /Library/Frameworks/R.framework/Resources/bin/R CMD build --keep-empty-dirs --no-resave-data cellity StartedAt: 2024-03-03 16:10:16 -0500 (Sun, 03 Mar 2024) EndedAt: 2024-03-03 16:11:29 -0500 (Sun, 03 Mar 2024) EllapsedTime: 73.1 seconds RetCode: 0 Status: OK PackageFile: cellity_1.30.0.tar.gz PackageFileSize: 1.214 MiB