Package: cellity Version: 1.30.0 Command: /home/biocbuild/R/R-4.3.1/bin/R CMD INSTALL cellity StartedAt: 2023-11-01 20:24:01 -0000 (Wed, 01 Nov 2023) EndedAt: 2023-11-01 20:24:27 -0000 (Wed, 01 Nov 2023) EllapsedTime: 26.4 seconds RetCode: 0 Status: OK