Package: cellity Version: 1.30.0 Command: /home/biocbuild/R/R-4.3.1/bin/R CMD check --install=check:cellity.install-out.txt --library=/home/biocbuild/R/R-4.3.1/site-library --no-vignettes --timings cellity_1.30.0.tar.gz StartedAt: 2023-11-02 09:05:41 -0000 (Thu, 02 Nov 2023) EndedAt: 2023-11-02 09:09:16 -0000 (Thu, 02 Nov 2023) EllapsedTime: 215.2 seconds RetCode: 0 Status: OK CheckDir: cellity.Rcheck Warnings: 0