Package: cellity Version: 1.30.0 Command: /home/biocbuild/R/R-4.3.1/bin/R CMD build --keep-empty-dirs --no-resave-data cellity StartedAt: 2023-11-01 23:07:39 -0000 (Wed, 01 Nov 2023) EndedAt: 2023-11-01 23:09:12 -0000 (Wed, 01 Nov 2023) EllapsedTime: 93.1 seconds RetCode: 0 Status: OK PackageFile: cellity_1.30.0.tar.gz PackageFileSize: 1.238 MiB