Package: cellbaseR Version: 1.26.0 Command: chmod a+r cellbaseR -R && F:\biocbuild\bbs-3.18-bioc\R\bin\R.exe CMD build --keep-empty-dirs --no-resave-data cellbaseR StartedAt: 2024-04-15 17:28:16 -0400 (Mon, 15 Apr 2024) EndedAt: 2024-04-15 17:29:32 -0400 (Mon, 15 Apr 2024) EllapsedTime: 76.3 seconds RetCode: 0 Status: OK PackageFile: cellbaseR_1.26.0.tar.gz PackageFileSize: 464.5 KiB