Package: celda Version: 1.18.2 Command: F:\biocbuild\bbs-3.18-bioc\R\bin\R.exe CMD INSTALL celda StartedAt: 2024-04-15 16:37:06 -0400 (Mon, 15 Apr 2024) EndedAt: 2024-04-15 16:39:01 -0400 (Mon, 15 Apr 2024) EllapsedTime: 115.3 seconds RetCode: 0 Status: OK