Package: celda Version: 1.18.2 Command: chmod a+r celda -R && F:\biocbuild\bbs-3.18-bioc\R\bin\R.exe CMD build --keep-empty-dirs --no-resave-data celda StartedAt: 2024-04-15 17:28:06 -0400 (Mon, 15 Apr 2024) EndedAt: 2024-04-15 17:34:09 -0400 (Mon, 15 Apr 2024) EllapsedTime: 363.2 seconds RetCode: 0 Status: OK PackageFile: celda_1.18.2.tar.gz PackageFileSize: 1.43 MiB