Package: celaref Version: 1.20.0 Command: /home/biocbuild/bbs-3.18-bioc/R/bin/R CMD INSTALL celaref StartedAt: 2024-04-15 15:14:57 -0400 (Mon, 15 Apr 2024) EndedAt: 2024-04-15 15:15:24 -0400 (Mon, 15 Apr 2024) EllapsedTime: 26.6 seconds RetCode: 0 Status: OK