Package: celaref Version: 1.20.0 Command: rm -rf celaref.buildbin-libdir && mkdir celaref.buildbin-libdir && /Users/biocbuild/BBS/utils/build-universal.sh celaref_1.20.0.tar.gz /Library/Frameworks/R.framework/Resources/bin/R celaref.buildbin-libdir StartedAt: 2024-03-04 00:32:50 -0500 (Mon, 04 Mar 2024) EndedAt: 2024-03-04 00:33:31 -0500 (Mon, 04 Mar 2024) EllapsedTime: 40.9 seconds RetCode: 0 Status: OK PackageFile: celaref_1.20.0.tgz PackageFileSize: 2.829 MiB