Package: celaref Version: 1.20.0 Command: /home/biocbuild/R/R-4.3.1/bin/R CMD INSTALL celaref StartedAt: 2023-11-01 20:15:56 -0000 (Wed, 01 Nov 2023) EndedAt: 2023-11-01 20:16:32 -0000 (Wed, 01 Nov 2023) EllapsedTime: 36.2 seconds RetCode: 0 Status: OK