Package: celaref Version: 1.20.0 Command: /home/biocbuild/R/R-4.3.1/bin/R CMD check --install=check:celaref.install-out.txt --library=/home/biocbuild/R/R-4.3.1/site-library --timings celaref_1.20.0.tar.gz StartedAt: 2023-10-25 08:23:35 -0000 (Wed, 25 Oct 2023) EndedAt: 2023-10-25 08:33:14 -0000 (Wed, 25 Oct 2023) EllapsedTime: 578.9 seconds RetCode: 0 Status: OK CheckDir: celaref.Rcheck Warnings: 0