Package: celaref Version: 1.20.0 Command: /home/biocbuild/R/R-4.3.1/bin/R CMD build --keep-empty-dirs --no-resave-data celaref StartedAt: 2023-11-01 23:05:26 -0000 (Wed, 01 Nov 2023) EndedAt: 2023-11-01 23:45:26 -0000 (Wed, 01 Nov 2023) EllapsedTime: 2400.5 seconds RetCode: None Status: TIMEOUT PackageFile: None PackageFileSize: NA