Package: ceRNAnetsim Version: 1.14.1 Command: chmod a+r ceRNAnetsim -R && F:\biocbuild\bbs-3.18-bioc\R\bin\R.exe CMD build --keep-empty-dirs --no-resave-data ceRNAnetsim StartedAt: 2024-04-15 17:31:10 -0400 (Mon, 15 Apr 2024) EndedAt: 2024-04-15 17:38:07 -0400 (Mon, 15 Apr 2024) EllapsedTime: 417.5 seconds RetCode: 0 Status: OK PackageFile: ceRNAnetsim_1.14.1.tar.gz PackageFileSize: 2.832 MiB