Package: ceRNAnetsim Version: 1.14.1 Command: /home/biocbuild/bbs-3.18-bioc/R/bin/R CMD INSTALL ceRNAnetsim StartedAt: 2024-04-15 15:33:08 -0400 (Mon, 15 Apr 2024) EndedAt: 2024-04-15 15:33:15 -0400 (Mon, 15 Apr 2024) EllapsedTime: 7.0 seconds RetCode: 0 Status: OK