Package: ceRNAnetsim Version: 1.14.1 Command: /Library/Frameworks/R.framework/Resources/bin/R CMD INSTALL ceRNAnetsim StartedAt: 2024-04-15 16:01:34 -0400 (Mon, 15 Apr 2024) EndedAt: 2024-04-15 16:01:54 -0400 (Mon, 15 Apr 2024) EllapsedTime: 19.2 seconds RetCode: 0 Status: OK