Package: ceRNAnetsim Version: 1.14.1 Command: rm -rf ceRNAnetsim.buildbin-libdir && mkdir ceRNAnetsim.buildbin-libdir && /Users/biocbuild/BBS/utils/build-universal.sh ceRNAnetsim_1.14.1.tar.gz /Library/Frameworks/R.framework/Resources/bin/R ceRNAnetsim.buildbin-libdir StartedAt: 2024-03-04 00:33:20 -0500 (Mon, 04 Mar 2024) EndedAt: 2024-03-04 00:33:32 -0500 (Mon, 04 Mar 2024) EllapsedTime: 11.4 seconds RetCode: 0 Status: OK PackageFile: ceRNAnetsim_1.14.1.tgz PackageFileSize: 2.458 MiB