Package: ccrepe Version: 1.38.1 Command: /home/biocbuild/bbs-3.18-bioc/R/bin/R CMD INSTALL ccrepe StartedAt: 2024-04-15 15:06:03 -0400 (Mon, 15 Apr 2024) EndedAt: 2024-04-15 15:06:17 -0400 (Mon, 15 Apr 2024) EllapsedTime: 14.1 seconds RetCode: 0 Status: OK