Package: ccrepe Version: 1.38.1 Command: /Library/Frameworks/R.framework/Resources/bin/R CMD build --keep-empty-dirs --no-resave-data ccrepe StartedAt: 2024-04-15 17:30:05 -0400 (Mon, 15 Apr 2024) EndedAt: 2024-04-15 17:30:37 -0400 (Mon, 15 Apr 2024) EllapsedTime: 31.6 seconds RetCode: 0 Status: OK PackageFile: ccrepe_1.38.1.tar.gz PackageFileSize: 303.6 KiB