Package: ccrepe Version: 1.38.1 Command: rm -rf ccrepe.buildbin-libdir && mkdir ccrepe.buildbin-libdir && /Users/biocbuild/BBS/utils/build-universal.sh ccrepe_1.38.1.tar.gz /Library/Frameworks/R.framework/Resources/bin/R ccrepe.buildbin-libdir StartedAt: 2024-03-04 00:32:44 -0500 (Mon, 04 Mar 2024) EndedAt: 2024-03-04 00:32:50 -0500 (Mon, 04 Mar 2024) EllapsedTime: 5.7 seconds RetCode: 0 Status: OK PackageFile: ccrepe_1.38.1.tgz PackageFileSize: 359 KiB